BEGIN:VCALENDAR
VERSION:2.0
CALSCALE:GREGORIAN
PRODID:-//Diputació de Barcelona//DibaCMS//EN
BEGIN:VEVENT
UID:4211
DTSTAMP:20260422T160913
DTSTART:20190412T193000
DTEND:20190412T203000
SUMMARY:Conversa en anglès
LOCATION:
METHOD:PUBLISH
X-WR-CALNAME:capellades@capellades.cat
X-WR-TIMEZONE:Europe/Madrid
DESCRIPTION:Nova sessió dels grups de conversa en anglès, al Saló Rosa de La Lliga.

URI:https://www.capellades.cat/actualitat/agenda/conversa-en-angles.html
CLASS:PUBLIC
END:VEVENT
END:VCALENDAR
