BEGIN:VCALENDAR
VERSION:2.0
CALSCALE:GREGORIAN
PRODID:-//Diputació de Barcelona//DibaCMS//EN
BEGIN:VEVENT
UID:4210
DTSTAMP:20260422T175037
DTSTART:20190412T110000
DTEND:20190412T133000
SUMMARY:Triatló dels instituts de Capellades
LOCATION:
METHOD:PUBLISH
X-WR-CALNAME:capellades@capellades.cat
X-WR-TIMEZONE:Europe/Madrid
DESCRIPTION:Nova edició de la Triatló a Capellades, organitzada un any més des dels instituts capelladins.

URI:https://www.capellades.cat/actualitat/agenda/triatlo-dels-instituts-de-capellades.html
CLASS:PUBLIC
END:VEVENT
END:VCALENDAR
