BEGIN:VCALENDAR
VERSION:2.0
CALSCALE:GREGORIAN
PRODID:-//Diputació de Barcelona//DibaCMS//EN
BEGIN:VEVENT
UID:4208
DTSTAMP:20260422T144751
DTSTART:20190406T093000
DTEND:20190407T120000
SUMMARY:Vine a animar el teu equip
LOCATION:
METHOD:PUBLISH
X-WR-CALNAME:capellades@capellades.cat
X-WR-TIMEZONE:Europe/Madrid
DESCRIPTION:Tres partits aquest cap de setmana del Club de Futbol Sala Capellades, al Pavelló Poliesportiu.

URI:https://www.capellades.cat/actualitat/agenda/4208-vine-a-animar-el-teu-equip.html
CLASS:PUBLIC
END:VEVENT
END:VCALENDAR
