BEGIN:VCALENDAR
VERSION:2.0
CALSCALE:GREGORIAN
PRODID:-//Diputació de Barcelona//DibaCMS//EN
BEGIN:VEVENT
UID:4204
DTSTAMP:20260422T193204
DTSTART:20190411T193000
DTEND:20190411T203000
SUMMARY:Xerrada: Cohabitatge sènior
LOCATION:
METHOD:PUBLISH
X-WR-CALNAME:capellades@capellades.cat
X-WR-TIMEZONE:Europe/Madrid
DESCRIPTION:Xerrada prevista per aquest dijous 11 d’abril, a les 19:30, al Saló Rosa. Entrada lliure.

URI:https://www.capellades.cat/actualitat/agenda/xerrada-cohabitatge-senior.html
CLASS:PUBLIC
END:VEVENT
END:VCALENDAR
