BEGIN:VCALENDAR
VERSION:2.0
CALSCALE:GREGORIAN
PRODID:-//Diputació de Barcelona//DibaCMS//EN
BEGIN:VEVENT
UID:4203
DTSTAMP:20260422T152041
DTSTART:20190411T190000
DTEND:20190411T203000
SUMMARY:Club de lectura: El domador de lagartijas
LOCATION:
METHOD:PUBLISH
X-WR-CALNAME:capellades@capellades.cat
X-WR-TIMEZONE:Europe/Madrid
DESCRIPTION:Aquest mes d'abril la trobada del Club de Lectura de la Biblioteca El Safareig serà oberta a tothom.

URI:https://www.capellades.cat/actualitat/agenda/club-de-lectura-el-domador-de-lagartijas.html
CLASS:PUBLIC
END:VEVENT
END:VCALENDAR
