BEGIN:VCALENDAR
VERSION:2.0
CALSCALE:GREGORIAN
PRODID:-//Diputació de Barcelona//DibaCMS//EN
BEGIN:VEVENT
UID:4202
DTSTAMP:20260422T163359
DTSTART:20190411T180000
DTEND:20190411T200000
SUMMARY:Bingo a Cal Ponet
LOCATION:
METHOD:PUBLISH
X-WR-CALNAME:capellades@capellades.cat
X-WR-TIMEZONE:Europe/Madrid
DESCRIPTION:Aquest mes d'abril el Bingo de Cal Ponet es farà el dia 11 d'abril.

URI:https://www.capellades.cat/actualitat/agenda/4202-bingo-a-cal-ponet.html
CLASS:PUBLIC
END:VEVENT
END:VCALENDAR
