BEGIN:VCALENDAR
VERSION:2.0
CALSCALE:GREGORIAN
PRODID:-//Diputació de Barcelona//DibaCMS//EN
BEGIN:VEVENT
UID:4201
DTSTAMP:20260422T115514
DTSTART:20190411T153000
DTEND:20190411T173000
SUMMARY:Visita del SIAD
LOCATION:
METHOD:PUBLISH
X-WR-CALNAME:capellades@capellades.cat
X-WR-TIMEZONE:Europe/Madrid
DESCRIPTION:El Servei d'Informació i Atenció a la Dona torna a Capellades el dijous 11 d'abril.

URI:https://www.capellades.cat/actualitat/agenda/4201-visita-del-siad.html
CLASS:PUBLIC
END:VEVENT
END:VCALENDAR
