BEGIN:VCALENDAR
VERSION:2.0
CALSCALE:GREGORIAN
PRODID:-//Diputació de Barcelona//DibaCMS//EN
BEGIN:VEVENT
UID:4199
DTSTAMP:20260422T144529
DTSTART:20190403T000000
DTEND:20190403T000000
SUMMARY:Es reomplen els contenidors de la plaça Sant Miquel
LOCATION:
METHOD:PUBLISH
X-WR-CALNAME:capellades@capellades.cat
X-WR-TIMEZONE:Europe/Madrid
DESCRIPTION:
URI:https://www.capellades.cat/actualitat/agenda/4199-es-reomplen-els-contenidors-de-la-placa-sant-miquel.html
CLASS:PUBLIC
END:VEVENT
END:VCALENDAR
