BEGIN:VCALENDAR
VERSION:2.0
CALSCALE:GREGORIAN
PRODID:-//Diputació de Barcelona//DibaCMS//EN
BEGIN:VEVENT
UID:4198
DTSTAMP:20260422T162836
DTSTART:20190410T173000
DTEND:20190410T190000
SUMMARY:Xerrada "Moure'ns en llibertat"
LOCATION:
METHOD:PUBLISH
X-WR-CALNAME:capellades@capellades.cat
X-WR-TIMEZONE:Europe/Madrid
DESCRIPTION:L'ampa de la llar d'infants ha organitzat una xerrada sobre "Moure'ns en llibertat", a càrrec d'Esperanza Mora.

URI:https://www.capellades.cat/actualitat/agenda/xerrada-mourens-en-llibertat.html
CLASS:PUBLIC
END:VEVENT
END:VCALENDAR
