BEGIN:VCALENDAR
VERSION:2.0
CALSCALE:GREGORIAN
PRODID:-//Diputació de Barcelona//DibaCMS//EN
BEGIN:VEVENT
UID:4197
DTSTAMP:20260422T162015
DTSTART:20190409T180000
DTEND:20190409T190000
SUMMARY:Acaba d'arribar!!
LOCATION:
METHOD:PUBLISH
X-WR-CALNAME:capellades@capellades.cat
X-WR-TIMEZONE:Europe/Madrid
DESCRIPTION:Si vols veure quines són les novetats en contes i llibres de la secció infantil de la Biblioteca El Safareig, vine el dimarts 9 d'abril.

URI:https://www.capellades.cat/actualitat/agenda/4197-acaba-darribar.html
CLASS:PUBLIC
END:VEVENT
END:VCALENDAR
