BEGIN:VCALENDAR
VERSION:2.0
CALSCALE:GREGORIAN
PRODID:-//Diputació de Barcelona//DibaCMS//EN
BEGIN:VEVENT
UID:4196
DTSTAMP:20260422T163506
DTSTART:20190407T130000
DTEND:20190407T143000
SUMMARY:Concert musical amb La Guingueta
LOCATION:
METHOD:PUBLISH
X-WR-CALNAME:capellades@capellades.cat
X-WR-TIMEZONE:Europe/Madrid
DESCRIPTION:La Societat La Lliga organitza un Concert vermut per al diumenge 7 d’abril, a la una, a la Cafeteria de La Lliga. L'entrada és una consumició.

URI:https://www.capellades.cat/actualitat/agenda/concert-musical-amb-la-guingueta.html
CLASS:PUBLIC
END:VEVENT
END:VCALENDAR
