BEGIN:VCALENDAR
VERSION:2.0
CALSCALE:GREGORIAN
PRODID:-//Diputació de Barcelona//DibaCMS//EN
BEGIN:VEVENT
UID:4195
DTSTAMP:20260422T164243
DTSTART:20190407T100000
DTEND:20190407T130000
SUMMARY:Trobada d'exalumnes escola Mare del Diví Pastor
LOCATION:
METHOD:PUBLISH
X-WR-CALNAME:capellades@capellades.cat
X-WR-TIMEZONE:Europe/Madrid
DESCRIPTION:Aquest diumenge es farà l'habitual festa d'exalumnes de l'escola Mare del Diví Pastor de Capellades.

URI:https://www.capellades.cat/actualitat/agenda/trobada-dexalumnes-escola-mare-del-divi-pastor.html
CLASS:PUBLIC
END:VEVENT
END:VCALENDAR
