BEGIN:VCALENDAR
VERSION:2.0
CALSCALE:GREGORIAN
PRODID:-//Diputació de Barcelona//DibaCMS//EN
BEGIN:VEVENT
UID:4194
DTSTAMP:20260422T132743
DTSTART:20190407T090000
DTEND:20190407T120000
SUMMARY:Sortida d'abril dels Caminant per la Comarca
LOCATION:
METHOD:PUBLISH
X-WR-CALNAME:capellades@capellades.cat
X-WR-TIMEZONE:Europe/Madrid
DESCRIPTION:Aquest mes d'abril se sortirà com és habitual del Pavelló Poliesportiu cap al Castell de Miralles, l'Agulla Grossa de Miralles i la Mare de Deu Roqueta. 

URI:https://www.capellades.cat/actualitat/agenda/sortida-dabril-dels-caminant-per-la-comarca.html
CLASS:PUBLIC
END:VEVENT
END:VCALENDAR
