BEGIN:VCALENDAR
VERSION:2.0
CALSCALE:GREGORIAN
PRODID:-//Diputació de Barcelona//DibaCMS//EN
BEGIN:VEVENT
UID:4193
DTSTAMP:20260422T130327
DTSTART:20190406T200000
DTEND:20190406T220000
SUMMARY:Concert de la banda i big band
LOCATION:
METHOD:PUBLISH
X-WR-CALNAME:capellades@capellades.cat
X-WR-TIMEZONE:Europe/Madrid
DESCRIPTION:La banda i la Big Band de l'Escola de Música faran un concert aquest dissabte 6 d'abril a les 8 del vespre.

URI:https://www.capellades.cat/actualitat/agenda/concert-de-la-banda-i-big-band.html
CLASS:PUBLIC
END:VEVENT
END:VCALENDAR
