BEGIN:VCALENDAR
VERSION:2.0
CALSCALE:GREGORIAN
PRODID:-//Diputació de Barcelona//DibaCMS//EN
BEGIN:VEVENT
UID:4192
DTSTAMP:20260422T173118
DTSTART:20190406T120000
DTEND:20190406T130000
SUMMARY:Cel·lebra el Dia Mundial de l'Activitat Física
LOCATION:
METHOD:PUBLISH
X-WR-CALNAME:capellades@capellades.cat
X-WR-TIMEZONE:Europe/Madrid
DESCRIPTION:Vine a cel·lebrar el Dia Mundial de l'Activitat Física amb la Societat La Lliga -al Pati-, aquest dissabte al migdia, de 12 a 13 hores.

URI:https://www.capellades.cat/actualitat/agenda/cellebra-el-dia-mundial-de-lactivitat-fisica.html
CLASS:PUBLIC
END:VEVENT
END:VCALENDAR
