BEGIN:VCALENDAR
VERSION:2.0
CALSCALE:GREGORIAN
PRODID:-//Diputació de Barcelona//DibaCMS//EN
BEGIN:VEVENT
UID:4191
DTSTAMP:20260422T122052
DTSTART:20190406T120000
DTEND:20190413T131500
SUMMARY:Vols venir a cantar les Caramelles?
LOCATION:
METHOD:PUBLISH
X-WR-CALNAME:capellades@capellades.cat
X-WR-TIMEZONE:Europe/Madrid
DESCRIPTION:T'agradaria cantar les Caramelles pels carrers de Capellades el diumenge de Pàsqua -21 d'abril-?

URI:https://www.capellades.cat/actualitat/agenda/vols-venir-a-cantar-les-caramelles.html
CLASS:PUBLIC
END:VEVENT
END:VCALENDAR
