BEGIN:VCALENDAR
VERSION:2.0
CALSCALE:GREGORIAN
PRODID:-//Diputació de Barcelona//DibaCMS//EN
BEGIN:VEVENT
UID:4190
DTSTAMP:20260422T151056
DTSTART:20190405T200000
DTEND:20190405T220000
SUMMARY:Cinefòrum Josep Romanyà i Montcada: The Florida Project
LOCATION:
METHOD:PUBLISH
X-WR-CALNAME:capellades@capellades.cat
X-WR-TIMEZONE:Europe/Madrid
DESCRIPTION:Nova trobada del Cinefòrum Josep Romanyà i Montcada per aquest divendres 5 d'abril, a les 8 del vespre, a Paper de Música.

URI:https://www.capellades.cat/actualitat/agenda/cineforum-josep-romanya-i-montcada-the-florida-project.html
CLASS:PUBLIC
END:VEVENT
END:VCALENDAR
