BEGIN:VCALENDAR
VERSION:2.0
CALSCALE:GREGORIAN
PRODID:-//Diputació de Barcelona//DibaCMS//EN
BEGIN:VEVENT
UID:4181
DTSTAMP:20260422T133703
DTSTART:20190404T093000
DTEND:20190404T120000
SUMMARY:Portes obertes a la llar d'infants
LOCATION:
METHOD:PUBLISH
X-WR-CALNAME:capellades@capellades.cat
X-WR-TIMEZONE:Europe/Madrid
DESCRIPTION:Aquest any es farà tres jornades de portes oberts a la Llar d'Infnats Vailets. Els dies 4 i 9 d'abril es podrà visitar la llar de 9:30 a 12 del migdia i el dia 4 de maig d'11 a 13 hores.

URI:https://www.capellades.cat/actualitat/agenda/4181-portes-obertes-a-la-llar-dinfants.html
CLASS:PUBLIC
END:VEVENT
END:VCALENDAR
