BEGIN:VCALENDAR
VERSION:2.0
CALSCALE:GREGORIAN
PRODID:-//Diputació de Barcelona//DibaCMS//EN
BEGIN:VEVENT
UID:4180
DTSTAMP:20260422T010853
DTSTART:20190402T180000
DTEND:20190402T190000
SUMMARY:Dia Internacional del llibre infantil i juvenil
LOCATION:
METHOD:PUBLISH
X-WR-CALNAME:capellades@capellades.cat
X-WR-TIMEZONE:Europe/Madrid
DESCRIPTION:La Biblioteca El Safareig celebra el Dia Internacional del llibre infantil i juvenil, aquest proper dimarts.

URI:https://www.capellades.cat/actualitat/agenda/dia-internacional-del-llibre-infantil-i-juvenil.html
CLASS:PUBLIC
END:VEVENT
END:VCALENDAR
