BEGIN:VCALENDAR
VERSION:2.0
CALSCALE:GREGORIAN
PRODID:-//Diputació de Barcelona//DibaCMS//EN
BEGIN:VEVENT
UID:4179
DTSTAMP:20260422T063504
DTSTART:20190402T140000
DTEND:20190402T143000
SUMMARY:Ple extraordinari
LOCATION:
METHOD:PUBLISH
X-WR-CALNAME:capellades@capellades.cat
X-WR-TIMEZONE:Europe/Madrid
DESCRIPTION:Aquest proper dimarts 2 d'abril es farà una sessió extraordinària del Ple de l'Ajuntament de Capellades.

URI:https://www.capellades.cat/actualitat/agenda/ple-extraordinari.html
CLASS:PUBLIC
END:VEVENT
END:VCALENDAR
