BEGIN:VCALENDAR
VERSION:2.0
CALSCALE:GREGORIAN
PRODID:-//Diputació de Barcelona//DibaCMS//EN
BEGIN:VEVENT
UID:4178
DTSTAMP:20260422T110232
DTSTART:20190402T103000
DTEND:20190402T120000
SUMMARY:Visita temàtica de Harry Potter
LOCATION:
METHOD:PUBLISH
X-WR-CALNAME:capellades@capellades.cat
X-WR-TIMEZONE:Europe/Madrid
DESCRIPTION:Els alumnes de segon de l'escola Marquès de la Pobla aniran a la Biblioteca El Safareig per fer una visita temàtica sobre Harry Potter.

URI:https://www.capellades.cat/actualitat/agenda/visita-tematica-de-harry-potter.html
CLASS:PUBLIC
END:VEVENT
END:VCALENDAR
