BEGIN:VCALENDAR
VERSION:2.0
CALSCALE:GREGORIAN
PRODID:-//Diputació de Barcelona//DibaCMS//EN
BEGIN:VEVENT
UID:4175
DTSTAMP:20260422T123008
DTSTART:20190330T180000
DTEND:20190330T133000
SUMMARY:Vine a animar el  teu equip
LOCATION:
METHOD:PUBLISH
X-WR-CALNAME:capellades@capellades.cat
X-WR-TIMEZONE:Europe/Madrid
DESCRIPTION:Aquest cap de setmana el Club de Futbol Sala Capellades jugarà dos partits a casa.

URI:https://www.capellades.cat/actualitat/agenda/4175-vine-a-animar-el-teu-equip.html
CLASS:PUBLIC
END:VEVENT
END:VCALENDAR
