BEGIN:VCALENDAR
VERSION:2.0
CALSCALE:GREGORIAN
PRODID:-//Diputació de Barcelona//DibaCMS//EN
BEGIN:VEVENT
UID:4171
DTSTAMP:20260422T150027
DTSTART:20190402T193000
DTEND:20190402T210000
SUMMARY:Esquerra Capellades presenta el seu alcaldable
LOCATION:
METHOD:PUBLISH
X-WR-CALNAME:capellades@capellades.cat
X-WR-TIMEZONE:Europe/Madrid
DESCRIPTION:El proper dimarts 2 d’abril a les 19:30h a la Biblioteca El Safareig, l’alcaldable republicà Salvador Vives estarà acompanyat pel conseller de Treball, Afers Socials i Famílies Chakir El Homrani, en un acte obert a tothom.

URI:https://www.capellades.cat/actualitat/agenda/esquerra-capellades-presenta-el-seu-alcaldable.html
CLASS:PUBLIC
END:VEVENT
END:VCALENDAR
