BEGIN:VCALENDAR
VERSION:2.0
CALSCALE:GREGORIAN
PRODID:-//Diputació de Barcelona//DibaCMS//EN
BEGIN:VEVENT
UID:4167
DTSTAMP:20260421T233605
DTSTART:20190329T200000
DTEND:20190329T210000
SUMMARY:Presentació del darrer llibre de Joan Pinyol
LOCATION:
METHOD:PUBLISH
X-WR-CALNAME:capellades@capellades.cat
X-WR-TIMEZONE:Europe/Madrid
DESCRIPTION:Després d’haver-lo donat a conèixer divendres passat a l’Espai Òmnium Cultural de Manresa, a càrrec de l’historiador Joaquim Aloy i dissabte passat a La Llibreteria de Gelida, en una sala plena de gom a gom, i a càrrec del també historiador Ramon Arnabat, aquest proper divendres 29 de setembre l’escriptor Joan Pinyol presentarà el llibre “Avi, et trauré d’aquí! (Saldonar edicions, 2019) al seu poble.

URI:https://www.capellades.cat/actualitat/agenda/presentacio-del-darrer-llibre-de-joan-pinyol.html
CLASS:PUBLIC
END:VEVENT
END:VCALENDAR
