BEGIN:VCALENDAR
VERSION:2.0
CALSCALE:GREGORIAN
PRODID:-//Diputació de Barcelona//DibaCMS//EN
BEGIN:VEVENT
UID:4166
DTSTAMP:20260422T081039
DTSTART:20190327T190000
DTEND:20190327T200000
SUMMARY:Dia Mundial del Teatre
LOCATION:
METHOD:PUBLISH
X-WR-CALNAME:capellades@capellades.cat
X-WR-TIMEZONE:Europe/Madrid
DESCRIPTION:Capellades celebrarà aquest dimecres el Dia Mundial del Teatre.

URI:https://www.capellades.cat/actualitat/agenda/dia-mundial-del-teatre.html
CLASS:PUBLIC
END:VEVENT
END:VCALENDAR
