BEGIN:VCALENDAR
VERSION:2.0
CALSCALE:GREGORIAN
PRODID:-//Diputació de Barcelona//DibaCMS//EN
BEGIN:VEVENT
UID:4164
DTSTAMP:20260422T064241
DTSTART:20190331T180000
DTEND:20190331T190000
SUMMARY:Xarxa proposa l'obra El secret de la detectiva Klaus
LOCATION:
METHOD:PUBLISH
X-WR-CALNAME:capellades@capellades.cat
X-WR-TIMEZONE:Europe/Madrid
DESCRIPTION:El darrer dia de mes Xarxa proposa una nova obra teatral per als nois i noies de Capellades.

URI:https://www.capellades.cat/actualitat/agenda/xarxa-proposa-lobra-el-secret-de-la-detectiva-klaus.html
CLASS:PUBLIC
END:VEVENT
END:VCALENDAR
