BEGIN:VCALENDAR
VERSION:2.0
CALSCALE:GREGORIAN
PRODID:-//Diputació de Barcelona//DibaCMS//EN
BEGIN:VEVENT
UID:4163
DTSTAMP:20260421T222107
DTSTART:20190322T000000
DTEND:20190322T000000
SUMMARY:El Grup Teatral de Capellades celebra el Dia Mundial del Teatre
LOCATION:
METHOD:PUBLISH
X-WR-CALNAME:capellades@capellades.cat
X-WR-TIMEZONE:Europe/Madrid
DESCRIPTION:Aquest proper dimecres 27 de maç es celebrarà a Capellades el Dia Mundial del Teatre.

URI:https://www.capellades.cat/actualitat/agenda/el-grup-teatral-de-capellades-celebra-el-dia-mundial-del-teatre.html
CLASS:PUBLIC
END:VEVENT
END:VCALENDAR
