BEGIN:VCALENDAR
VERSION:2.0
CALSCALE:GREGORIAN
PRODID:-//Diputació de Barcelona//DibaCMS//EN
BEGIN:VEVENT
UID:4153
DTSTAMP:20260422T000533
DTSTART:20190323T193000
DTEND:20190323T203000
SUMMARY:Col·loqui amb Artur Mas
LOCATION:
METHOD:PUBLISH
X-WR-CALNAME:capellades@capellades.cat
X-WR-TIMEZONE:Europe/Madrid
DESCRIPTION:Junts per Capellades ha organitzat un col·loqui amb Artur Mas i presentació de l'alcaldable Marcel·lí Martorell. 

URI:https://www.capellades.cat/actualitat/agenda/colloqui-amb-artur-mas.html
CLASS:PUBLIC
END:VEVENT
END:VCALENDAR
