BEGIN:VCALENDAR
VERSION:2.0
CALSCALE:GREGORIAN
PRODID:-//Diputació de Barcelona//DibaCMS//EN
BEGIN:VEVENT
UID:4148
DTSTAMP:20260422T005928
DTSTART:20190330T193000
DTEND:20190330T210000
SUMMARY:Representació de l'obra "Una nit a casa seva... senyora"
LOCATION:
METHOD:PUBLISH
X-WR-CALNAME:capellades@capellades.cat
X-WR-TIMEZONE:Europe/Madrid
DESCRIPTION:El dissabte a la tarda, al teatre La Lliga, "Una nit a casa seva... senyora".

URI:https://www.capellades.cat/actualitat/agenda/representacio-de-lobra-una-nit-a-casa-seva-senyora.html
CLASS:PUBLIC
END:VEVENT
END:VCALENDAR
