BEGIN:VCALENDAR
VERSION:2.0
CALSCALE:GREGORIAN
PRODID:-//Diputació de Barcelona//DibaCMS//EN
BEGIN:VEVENT
UID:4146
DTSTAMP:20260421T210450
DTSTART:20190328T193000
DTEND:20190328T194500
SUMMARY:Penjada de llaços 
LOCATION:
METHOD:PUBLISH
X-WR-CALNAME:capellades@capellades.cat
X-WR-TIMEZONE:Europe/Madrid
DESCRIPTION:Nova concentració a la plaça Verdaguer, davant l'arbre de la font.

URI:https://www.capellades.cat/actualitat/agenda/4146-penjada-de-llacos-.html
CLASS:PUBLIC
END:VEVENT
END:VCALENDAR
