BEGIN:VCALENDAR
VERSION:2.0
CALSCALE:GREGORIAN
PRODID:-//Diputació de Barcelona//DibaCMS//EN
BEGIN:VEVENT
UID:4145
DTSTAMP:20260422T053628
DTSTART:20190328T093000
DTEND:20190328T120000
SUMMARY:Mou-te!!
LOCATION:
METHOD:PUBLISH
X-WR-CALNAME:capellades@capellades.cat
X-WR-TIMEZONE:Europe/Madrid
DESCRIPTION:El Centre d'Atenció Primària de Capellades proposa activar les persones fent salut, tot caminant.

URI:https://www.capellades.cat/actualitat/agenda/4145-mou-te.html
CLASS:PUBLIC
END:VEVENT
END:VCALENDAR
