BEGIN:VCALENDAR
VERSION:2.0
CALSCALE:GREGORIAN
PRODID:-//Diputació de Barcelona//DibaCMS//EN
BEGIN:VEVENT
UID:4144
DTSTAMP:20260422T180356
DTSTART:20190326T180000
DTEND:20190326T190000
SUMMARY:Laboratori de Lectura "Explorem l'univers"
LOCATION:
METHOD:PUBLISH
X-WR-CALNAME:capellades@capellades.cat
X-WR-TIMEZONE:Europe/Madrid
DESCRIPTION:La Biblioteca El Safareig ha preparat un nou Laboratori de Lectura.

URI:https://www.capellades.cat/actualitat/agenda/laboratori-de-lectura-explorem-lunivers.html
CLASS:PUBLIC
END:VEVENT
END:VCALENDAR
