BEGIN:VCALENDAR
VERSION:2.0
CALSCALE:GREGORIAN
PRODID:-//Diputació de Barcelona//DibaCMS//EN
BEGIN:VEVENT
UID:4142
DTSTAMP:20260422T104846
DTSTART:20190323T080000
DTEND:20190323T200000
SUMMARY:Passejant per Girona
LOCATION:
METHOD:PUBLISH
X-WR-CALNAME:capellades@capellades.cat
X-WR-TIMEZONE:Europe/Madrid
DESCRIPTION:Visita cultural. Dissabte 23 de març. Sortida de Capellades 8:00. Arribada 20:00. Preu transport + visita guiada + entrades  + dinar: 50€ socis / 60€ no socis.

URI:https://www.capellades.cat/actualitat/agenda/passejant-per-girona.html
CLASS:PUBLIC
END:VEVENT
END:VCALENDAR
