BEGIN:VCALENDAR
VERSION:2.0
CALSCALE:GREGORIAN
PRODID:-//Diputació de Barcelona//DibaCMS//EN
BEGIN:VEVENT
UID:4140
DTSTAMP:20260422T052154
DTSTART:20190322T193000
DTEND:20190322T203000
SUMMARY:Torna la "Lliga de jocs"
LOCATION:
METHOD:PUBLISH
X-WR-CALNAME:capellades@capellades.cat
X-WR-TIMEZONE:Europe/Madrid
DESCRIPTION:La Lliga de Jocs és una proposta de la Societat La Lliga per al divendres 22 de març.

URI:https://www.capellades.cat/actualitat/agenda/torna-la-lliga-de-jocs.html
CLASS:PUBLIC
END:VEVENT
END:VCALENDAR
