BEGIN:VCALENDAR
VERSION:2.0
CALSCALE:GREGORIAN
PRODID:-//Diputació de Barcelona//DibaCMS//EN
BEGIN:VEVENT
UID:4139
DTSTAMP:20260421T205459
DTSTART:20190321T190000
DTEND:20190321T210000
SUMMARY:Club de Lectura sobre "El domador de lagartijas"
LOCATION:
METHOD:PUBLISH
X-WR-CALNAME:capellades@capellades.cat
X-WR-TIMEZONE:Europe/Madrid
DESCRIPTION:La Biblioteca El Safareig proposa que la propera trobada del Club de Lectura sigui per comentar el llibre "El domador de lagartijas".

URI:https://www.capellades.cat/actualitat/agenda/club-de-lectura-sobre-el-domador-de-lagartijas.html
CLASS:PUBLIC
END:VEVENT
END:VCALENDAR
