BEGIN:VCALENDAR
VERSION:2.0
CALSCALE:GREGORIAN
PRODID:-//Diputació de Barcelona//DibaCMS//EN
BEGIN:VEVENT
UID:4138
DTSTAMP:20260422T075126
DTSTART:20190320T173000
DTEND:20190320T183000
SUMMARY:Ioga per a famílies amb infants
LOCATION:
METHOD:PUBLISH
X-WR-CALNAME:capellades@capellades.cat
X-WR-TIMEZONE:Europe/Madrid
DESCRIPTION:L'AMPA de la llar d'infants Vailets proposa ioga per a les famílies amb infants.

URI:https://www.capellades.cat/actualitat/agenda/ioga-per-a-families-amb-infants.html
CLASS:PUBLIC
END:VEVENT
END:VCALENDAR
