BEGIN:VCALENDAR
VERSION:2.0
CALSCALE:GREGORIAN
PRODID:-//Diputació de Barcelona//DibaCMS//EN
BEGIN:VEVENT
UID:4137
DTSTAMP:20260422T135001
DTSTART:20190309T180000
DTEND:20190309T200000
SUMMARY:Vine a animar el teu equip
LOCATION:
METHOD:PUBLISH
X-WR-CALNAME:capellades@capellades.cat
X-WR-TIMEZONE:Europe/Madrid
DESCRIPTION:Vine a animar el teu equip de futbol sala.

URI:https://www.capellades.cat/actualitat/agenda/vine-a-animar-el-teu-equip.html
CLASS:PUBLIC
END:VEVENT
END:VCALENDAR
