BEGIN:VCALENDAR
VERSION:2.0
CALSCALE:GREGORIAN
PRODID:-//Diputació de Barcelona//DibaCMS//EN
BEGIN:VEVENT
UID:4136
DTSTAMP:20260422T080358
DTSTART:20190320T120000
DTEND:20190320T173000
SUMMARY:Jornada de Portes Obertes a l'escola Marquès de la Pobla
LOCATION:
METHOD:PUBLISH
X-WR-CALNAME:capellades@capellades.cat
X-WR-TIMEZONE:Europe/Madrid
DESCRIPTION:L'escola Marquès de la Pobla ofereix una jornada de portes obertes per donar a conèixer les seves instal·lacions.

URI:https://www.capellades.cat/actualitat/agenda/4136-jornada-de-portes-obertes-a-lescola-marques-de-la-pobla.html
CLASS:PUBLIC
END:VEVENT
END:VCALENDAR
