BEGIN:VCALENDAR
VERSION:2.0
CALSCALE:GREGORIAN
PRODID:-//Diputació de Barcelona//DibaCMS//EN
BEGIN:VEVENT
UID:4135
DTSTAMP:20260422T105100
DTSTART:20190319T180000
DTEND:20190319T200000
SUMMARY:Xerrada familiar interactiva
LOCATION:
METHOD:PUBLISH
X-WR-CALNAME:capellades@capellades.cat
X-WR-TIMEZONE:Europe/Madrid
DESCRIPTION:La Biblioteca El Safareig ha organitzat una xerrada familiar interactiva sobre els "50 anys de la primera visita a la Lluna, últimes notícies de l'espai".

URI:https://www.capellades.cat/actualitat/agenda/xerrada-familiar-interactiva.html
CLASS:PUBLIC
END:VEVENT
END:VCALENDAR
