BEGIN:VCALENDAR
VERSION:2.0
CALSCALE:GREGORIAN
PRODID:-//Diputació de Barcelona//DibaCMS//EN
BEGIN:VEVENT
UID:4134
DTSTAMP:20260421T233544
DTSTART:20190317T100000
DTEND:20190317T200000
SUMMARY:Mercat Figuteter de Capellades
LOCATION:
METHOD:PUBLISH
X-WR-CALNAME:capellades@capellades.cat
X-WR-TIMEZONE:Europe/Madrid
DESCRIPTION:El segon diumenge de Quaresma a Capellades es celebra el Mercat Figueter.

URI:https://www.capellades.cat/actualitat/agenda/mercat-figuteter-de-capellades.html
CLASS:PUBLIC
END:VEVENT
END:VCALENDAR
