BEGIN:VCALENDAR
VERSION:2.0
CALSCALE:GREGORIAN
PRODID:-//Diputació de Barcelona//DibaCMS//EN
BEGIN:VEVENT
UID:4133
DTSTAMP:20260422T063807
DTSTART:20190316T210000
DTEND:20190316T230000
SUMMARY:Concert "La Tendresse"
LOCATION:
METHOD:PUBLISH
X-WR-CALNAME:capellades@capellades.cat
X-WR-TIMEZONE:Europe/Madrid
DESCRIPTION:"La Tendresse" és el nom del recital que es podrà viure en directe el dissabte 16 de març a les 9 de la nit al Teatre La Lliga de Capellades.

URI:https://www.capellades.cat/actualitat/agenda/concert-la-tendresse.html
CLASS:PUBLIC
END:VEVENT
END:VCALENDAR
