BEGIN:VCALENDAR
VERSION:2.0
CALSCALE:GREGORIAN
PRODID:-//Diputació de Barcelona//DibaCMS//EN
BEGIN:VEVENT
UID:4132
DTSTAMP:20260422T040034
DTSTART:20190316T190000
DTEND:20190316T210000
SUMMARY:Concert d'Hivern amb Artem Trio
LOCATION:
METHOD:PUBLISH
X-WR-CALNAME:capellades@capellades.cat
X-WR-TIMEZONE:Europe/Madrid
DESCRIPTION:El Concert d'Hivern de Paper de Música tindrà com a protagonista a Artem Trio, interpretant obres de Haydin, Brotons i Turina.

URI:https://www.capellades.cat/actualitat/agenda/concert-dhivern-amb-artem-trio.html
CLASS:PUBLIC
END:VEVENT
END:VCALENDAR
