BEGIN:VCALENDAR
VERSION:2.0
CALSCALE:GREGORIAN
PRODID:-//Diputació de Barcelona//DibaCMS//EN
BEGIN:VEVENT
UID:4127
DTSTAMP:20260422T051828
DTSTART:20190316T090000
DTEND:20190316T140000
SUMMARY:Concurs de Pintura Ràpida Joan Campoy
LOCATION:
METHOD:PUBLISH
X-WR-CALNAME:capellades@capellades.cat
X-WR-TIMEZONE:Europe/Madrid
DESCRIPTION:El  dissabte 16 de març s’arribarà a la 32a. edició del Concurs de Pintura Ràpida Joan Campoy – Premi Capellades.

URI:https://www.capellades.cat/actualitat/agenda/4127-concurs-de-pintura-rapida-joan-campoy.html
CLASS:PUBLIC
END:VEVENT
END:VCALENDAR
