BEGIN:VCALENDAR
VERSION:2.0
CALSCALE:GREGORIAN
PRODID:-//Diputació de Barcelona//DibaCMS//EN
BEGIN:VEVENT
UID:4126
DTSTAMP:20260422T062835
DTSTART:20190316T060000
DTEND:20190317T060000
SUMMARY:Anem a Madrid a manifestar-nos
LOCATION:
METHOD:PUBLISH
X-WR-CALNAME:capellades@capellades.cat
X-WR-TIMEZONE:Europe/Madrid
DESCRIPTION:L'Assemblea.cat a Capellades ha organitzat un autobús per anar a Madrid a la manifestació.

URI:https://www.capellades.cat/actualitat/agenda/anem-a-madrid-a-manifestar-nos.html
CLASS:PUBLIC
END:VEVENT
END:VCALENDAR
