BEGIN:VCALENDAR
VERSION:2.0
CALSCALE:GREGORIAN
PRODID:-//Diputació de Barcelona//DibaCMS//EN
BEGIN:VEVENT
UID:4125
DTSTAMP:20260422T123727
DTSTART:20190314T210000
DTEND:20190314T223000
SUMMARY:Sopar musical amb Eva Sabater i Susana Basart
LOCATION:
METHOD:PUBLISH
X-WR-CALNAME:capellades@capellades.cat
X-WR-TIMEZONE:Europe/Madrid
DESCRIPTION:La Societat La Lliga proposa sopar a la Cafeteria, amb l'acompanyament musical de l'Eva Sabater i la Susana Basart.

URI:https://www.capellades.cat/actualitat/agenda/sopar-musical-amb-eva-sabater-i-susana-basart.html
CLASS:PUBLIC
END:VEVENT
END:VCALENDAR
