BEGIN:VCALENDAR
VERSION:2.0
CALSCALE:GREGORIAN
PRODID:-//Diputació de Barcelona//DibaCMS//EN
BEGIN:VEVENT
UID:4124
DTSTAMP:20260422T081112
DTSTART:20190314T180000
DTEND:20190314T200000
SUMMARY:Bingo a Cal Ponet
LOCATION:
METHOD:PUBLISH
X-WR-CALNAME:capellades@capellades.cat
X-WR-TIMEZONE:Europe/Madrid
DESCRIPTION:Els avis i àvies del Casal Cal Ponet han organitzat el Bingo del mes de març per al dijous 14, a les 6.

URI:https://www.capellades.cat/actualitat/agenda/4124-bingo-a-cal-ponet.html
CLASS:PUBLIC
END:VEVENT
END:VCALENDAR
