BEGIN:VCALENDAR
VERSION:2.0
CALSCALE:GREGORIAN
PRODID:-//Diputació de Barcelona//DibaCMS//EN
BEGIN:VEVENT
UID:4116
DTSTAMP:20260422T080234
DTSTART:20190312T180000
DTEND:20190313T180000
SUMMARY:Club de Lectura de Petits Lectors
LOCATION:
METHOD:PUBLISH
X-WR-CALNAME:capellades@capellades.cat
X-WR-TIMEZONE:Europe/Madrid
DESCRIPTION:Aquest mes torna el Club de Petits Lectors a la Biblioteca El Safareig de Capellades.

URI:https://www.capellades.cat/actualitat/agenda/club-de-lectura-de-petits-lectors.html
CLASS:PUBLIC
END:VEVENT
END:VCALENDAR
