BEGIN:VCALENDAR
VERSION:2.0
CALSCALE:GREGORIAN
PRODID:-//Diputació de Barcelona//DibaCMS//EN
BEGIN:VEVENT
UID:4115
DTSTAMP:20260422T025953
DTSTART:20190310T130000
DTEND:20190310T140000
SUMMARY:Concert vermut amb Q-sticks
LOCATION:
METHOD:PUBLISH
X-WR-CALNAME:capellades@capellades.cat
X-WR-TIMEZONE:Europe/Madrid
DESCRIPTION:La Lliga proposa un Concert-vermut per al diumenge al migdia.

URI:https://www.capellades.cat/actualitat/agenda/concert-vermut-amb-q-sticks.html
CLASS:PUBLIC
END:VEVENT
END:VCALENDAR
