BEGIN:VCALENDAR
VERSION:2.0
CALSCALE:GREGORIAN
PRODID:-//Diputació de Barcelona//DibaCMS//EN
BEGIN:VEVENT
UID:4113
DTSTAMP:20260422T023221
DTSTART:20190310T090000
DTEND:20190310T140000
SUMMARY:Nova sortida del Caminant per la comarca
LOCATION:
METHOD:PUBLISH
X-WR-CALNAME:capellades@capellades.cat
X-WR-TIMEZONE:Europe/Madrid
DESCRIPTION:El grup Caminant per la Comarca proposa una nova sortida per aquest diumenge 9 de març del 2019.

URI:https://www.capellades.cat/actualitat/agenda/4113-nova-sortida-del-caminant-per-la-comarca.html
CLASS:PUBLIC
END:VEVENT
END:VCALENDAR
