BEGIN:VCALENDAR
VERSION:2.0
CALSCALE:GREGORIAN
PRODID:-//Diputació de Barcelona//DibaCMS//EN
BEGIN:VEVENT
UID:4111
DTSTAMP:20260421T234342
DTSTART:20190309T143000
DTEND:20190309T180000
SUMMARY:Calçotada popular dels coros
LOCATION:
METHOD:PUBLISH
X-WR-CALNAME:capellades@capellades.cat
X-WR-TIMEZONE:Europe/Madrid
DESCRIPTION:El Coro Romero Virgen de la Cabeza i el Coro Morenita de la Sierra organitzen una calçotada per aquest dissabte.

URI:https://www.capellades.cat/actualitat/agenda/calcotada-popular-dels-coros.html
CLASS:PUBLIC
END:VEVENT
END:VCALENDAR
